BEGIN:VCALENDAR
VERSION:2.0
PRODID:-//Plone.org//NONSGML plone.app.event//EN
X-WR-TIMEZONE:US/Pacific
BEGIN:VEVENT
SUMMARY:Tween Event: Outside Games
DTSTART;TZID=US/Pacific:20250624T160000
DTEND;TZID=US/Pacific:20250624T170000
DTSTAMP:20260421T085844Z
UID:a3f2b28f0e774a84bc35a15b668b44bb@saas_stack_varnish:6080
CONTACT:(503) 543-7123
CREATED:20250609T192627Z
DESCRIPTION:Featuring tag\, water balloon toss\, and otter pops! Grades 4
 –6. Tuesday\, June 24th\, 4:00–5:00 PM in Heritage Park.
LAST-MODIFIED:20250611T231230Z
LOCATION:Heritage Park
URL:https://www.scappooselibrary.org/news-events/tween-event-outside-games
END:VEVENT
BEGIN:VTIMEZONE
TZID:US/Pacific
X-LIC-LOCATION:US/Pacific
BEGIN:DAYLIGHT
DTSTART:20250309T030000
TZNAME:PDT
TZOFFSETFROM:-0800
TZOFFSETTO:-0700
END:DAYLIGHT
END:VTIMEZONE
END:VCALENDAR
