BEGIN:VCALENDAR
VERSION:2.0
PRODID:-//Plone.org//NONSGML plone.app.event//EN
X-WR-TIMEZONE:US/Pacific
BEGIN:VEVENT
SUMMARY:Teen Art Meetup: Agamographs
DTSTART;TZID=US/Pacific:20250311T160000
DTEND;TZID=US/Pacific:20250311T170000
DTSTAMP:20260422T201138Z
UID:1d8be2705957431fabdf51e06a909a79@saas_stack_varnish:6080
CREATED:20241218T213421Z
DESCRIPTION:From 4–5 PM on the second Tuesdays of the month\, youth in g
 rades 7–12 are invited to make art at the Library. Art supplies and snac
 ks will be provided. On March 11th we will be making agamographs.
LAST-MODIFIED:20250224T183948Z
LOCATION:Library Meeting Room
URL:https://www.scappooselibrary.org/news-events/teen-art-meetup-agamograp
 hs
END:VEVENT
BEGIN:VTIMEZONE
TZID:US/Pacific
X-LIC-LOCATION:US/Pacific
BEGIN:DAYLIGHT
DTSTART:20250309T030000
TZNAME:PDT
TZOFFSETFROM:-0800
TZOFFSETTO:-0700
END:DAYLIGHT
END:VTIMEZONE
END:VCALENDAR
