BEGIN:VCALENDAR
VERSION:2.0
PRODID:-//Plone.org//NONSGML plone.app.event//EN
X-WR-TIMEZONE:US/Pacific
BEGIN:VEVENT
SUMMARY:Storytime
DTSTART;TZID=US/Pacific:20230908T103000
DTEND;TZID=US/Pacific:20230908T113000
DTSTAMP:20260425T170948Z
UID:b40c64f4fade4031b15bf8ac4769ea95@saas_stack_varnish:6080
RRULE:FREQ=WEEKLY;COUNT=39;BYDAY=FR
EXDATE;TZID=US/Pacific:20231124T000000,20240202T000000,20240426T000000
CONTACT:(503) 543-7123
CREATED:20230828T180259Z
DESCRIPTION:Starting September 2023\, Storytime is now every ✧Friday✧ 
 morning\, 10:30–11:30 AM. Join us for stories\, singing\, dancing\, and 
 playing with friends!
LAST-MODIFIED:20240422T221739Z
LOCATION:Library Meeting Room
URL:https://www.scappooselibrary.org/news-events/storytime-1
END:VEVENT
BEGIN:VTIMEZONE
TZID:US/Pacific
X-LIC-LOCATION:US/Pacific
BEGIN:DAYLIGHT
DTSTART:20230312T030000
TZNAME:PDT
TZOFFSETFROM:-0800
TZOFFSETTO:-0700
END:DAYLIGHT
END:VTIMEZONE
END:VCALENDAR
