BEGIN:VCALENDAR
VERSION:2.0
PRODID:-//Plone.org//NONSGML plone.app.event//EN
X-WR-TIMEZONE:US/Pacific
BEGIN:VEVENT
SUMMARY:Romance Book Club: The Duke and I
DTSTART;TZID=US/Pacific:20260413T180000
DTEND;TZID=US/Pacific:20260413T190000
DTSTAMP:20260422T164757Z
UID:36ae3144bf6e41958f0c8524ec51d05a@saas_stack_varnish:6080
CONTACT:(503) 543-7123
CREATED:20260310T175148Z
DESCRIPTION:The Romance Book Club is reading "The Duke and I" by Julia Qui
 nn. We meet at 6 PM on Monday\, April 13\, 2026 to talk about it.
LAST-MODIFIED:20260310T175237Z
LOCATION:First Floor of the Library
URL:https://www.scappooselibrary.org/news-events/romance-book-club-the-duk
 e-and-i
END:VEVENT
BEGIN:VTIMEZONE
TZID:US/Pacific
X-LIC-LOCATION:US/Pacific
BEGIN:DAYLIGHT
DTSTART:20260308T030000
TZNAME:PDT
TZOFFSETFROM:-0800
TZOFFSETTO:-0700
END:DAYLIGHT
END:VTIMEZONE
END:VCALENDAR
