BEGIN:VCALENDAR
VERSION:2.0
PRODID:-//Plone.org//NONSGML plone.app.event//EN
X-WR-TIMEZONE:US/Pacific
BEGIN:VEVENT
SUMMARY:Romance Book Club: Icebreaker
DTSTART;TZID=US/Pacific:20260511T180000
DTEND;TZID=US/Pacific:20260511T190000
DTSTAMP:20260423T082146Z
UID:8b5052ba26ec4f5380aab3bb8a8a1d9e@saas_stack_varnish:6080
CREATED:20260414T174318Z
DESCRIPTION:We are reading "Icebreaker" by Hannah Grace. The Romance Book 
 Club will meet Monday\, May 11\, 2026 at 6 PM to discuss it.
LAST-MODIFIED:20260414T174353Z
LOCATION:First Floor of the Library
URL:https://www.scappooselibrary.org/news-events/romance-book-club-icebrea
 ker
END:VEVENT
BEGIN:VTIMEZONE
TZID:US/Pacific
X-LIC-LOCATION:US/Pacific
BEGIN:DAYLIGHT
DTSTART:20260308T030000
TZNAME:PDT
TZOFFSETFROM:-0800
TZOFFSETTO:-0700
END:DAYLIGHT
END:VTIMEZONE
END:VCALENDAR
