BEGIN:VCALENDAR
VERSION:2.0
PRODID:-//Plone.org//NONSGML plone.app.event//EN
X-WR-TIMEZONE:US/Pacific
BEGIN:VEVENT
SUMMARY:Pokémon Club
DTSTART;TZID=US/Pacific:20260507T160000
DTEND;TZID=US/Pacific:20260507T170000
DTSTAMP:20260420T180239Z
UID:d9481c66171c4fb8885dcee88438220c@saas_stack_varnish:6080
RRULE:FREQ=MONTHLY;COUNT=9;BYDAY=+1TH
EXDATE;TZID=US/Pacific:20260101T000000
CONTACT:(503) 543-7123
CREATED:20250822T194221Z
DESCRIPTION:First Thursday of every* month. 4:00–5:00 PM.
LAST-MODIFIED:20250822T202318Z
LOCATION:Library Meeting Room
URL:https://www.scappooselibrary.org/news-events/pokemon-club-7
END:VEVENT
BEGIN:VTIMEZONE
TZID:US/Pacific
X-LIC-LOCATION:US/Pacific
BEGIN:DAYLIGHT
DTSTART:20260308T030000
TZNAME:PDT
TZOFFSETFROM:-0800
TZOFFSETTO:-0700
END:DAYLIGHT
END:VTIMEZONE
END:VCALENDAR
