BEGIN:VCALENDAR
VERSION:2.0
PRODID:-//Plone.org//NONSGML plone.app.event//EN
X-WR-TIMEZONE:US/Pacific
BEGIN:VEVENT
SUMMARY:Teen Movie
DTSTART;TZID=US/Pacific:20130301T160000
DTEND;TZID=US/Pacific:20130301T180000
DTSTAMP:20260420T163614Z
UID:b7370ce23ee49a636272fe388b3da860@saas_stack_varnish:6080
CONTACT:Ruth Silen\, 503-543-7123\, rsilen@scappooselibrary.org
CREATED:20130225T235311Z
DESCRIPTION:Free movie and refreshments in the Meeting Room.
LAST-MODIFIED:20130226T001156Z
LOCATION:Meeting Room
URL:https://www.scappooselibrary.org/news-events/lib-cal/teen-movie.ics
END:VEVENT
BEGIN:VTIMEZONE
TZID:US/Pacific
X-LIC-LOCATION:US/Pacific
BEGIN:STANDARD
DTSTART:20121104T010000
TZNAME:PST
TZOFFSETFROM:-0700
TZOFFSETTO:-0800
END:STANDARD
END:VTIMEZONE
END:VCALENDAR
