BEGIN:VCALENDAR
VERSION:2.0
PRODID:-//Plone.org//NONSGML plone.app.event//EN
X-WR-TIMEZONE:US/Pacific
BEGIN:VEVENT
SUMMARY:Homeschool Meetup: Boats and Floats
DTSTART;TZID=US/Pacific:20260514T150000
DTEND;TZID=US/Pacific:20260514T160000
DTSTAMP:20260424T162747Z
UID:a6a21da5abd049e29caf48529a7d1d64@saas_stack_varnish:6080
CONTACT:(503) 543-7123
CREATED:20260105T210042Z
DESCRIPTION:Design and create a boat and get it to float. Find out how muc
 h weight it can hold! Then find out how much root beer float your tummy ca
 n hold! Thursday\, May 14\, 2026\, 3–4 PM.
LAST-MODIFIED:20260105T210050Z
LOCATION:Library Meeting Room
URL:https://www.scappooselibrary.org/news-events/homeschool-meetup-boats-a
 nd-floats
END:VEVENT
BEGIN:VTIMEZONE
TZID:US/Pacific
X-LIC-LOCATION:US/Pacific
BEGIN:DAYLIGHT
DTSTART:20260308T030000
TZNAME:PDT
TZOFFSETFROM:-0800
TZOFFSETTO:-0700
END:DAYLIGHT
END:VTIMEZONE
END:VCALENDAR
