BEGIN:VCALENDAR
VERSION:2.0
PRODID:-//Plone.org//NONSGML plone.app.event//EN
X-WR-TIMEZONE:US/Pacific
BEGIN:VEVENT
SUMMARY:Genre Book Club: Horror
DTSTART;TZID=US/Pacific:20260427T180000
DTEND;TZID=US/Pacific:20260427T190000
DTSTAMP:20260423T155639Z
UID:b29b70eb029f45a7a4b087b53e62364c@saas_stack_varnish:6080
CONTACT:(503) 543-7123
CREATED:20260330T180546Z
DESCRIPTION:Read any horror novel you desire and then come talk about it o
 n Monday\, April 27\, 2026 at 6 PM.
LAST-MODIFIED:20260330T181028Z
LOCATION:First Floor of the Library
URL:https://www.scappooselibrary.org/news-events/genre-book-club-horror
END:VEVENT
BEGIN:VTIMEZONE
TZID:US/Pacific
X-LIC-LOCATION:US/Pacific
BEGIN:DAYLIGHT
DTSTART:20260308T030000
TZNAME:PDT
TZOFFSETFROM:-0800
TZOFFSETTO:-0700
END:DAYLIGHT
END:VTIMEZONE
END:VCALENDAR
