BEGIN:VCALENDAR
VERSION:2.0
PRODID:-//Plone.org//NONSGML plone.app.event//EN
X-WR-TIMEZONE:US/Pacific
BEGIN:VEVENT
SUMMARY:Earth Day
DTSTART;TZID=US/Pacific:20260425T080000
DTEND;TZID=US/Pacific:20260425T150000
DTSTAMP:20260422T134223Z
UID:7f47155a6afb404b9841e9723a6aed89@saas_stack_varnish:6080
CREATED:20260312T201458Z
DESCRIPTION:We're celebrating Earth Day on Saturday\, April 25th! We will 
 have community projects 8 AM–12 PM and education\, entertainment\, and f
 ood 12 PM–3 PM. You could win an electric bike!
LAST-MODIFIED:20260409T174315Z
LOCATION:Heritage Park
URL:https://www.scappooselibrary.org/news-events/earth-day-3
END:VEVENT
BEGIN:VTIMEZONE
TZID:US/Pacific
X-LIC-LOCATION:US/Pacific
BEGIN:DAYLIGHT
DTSTART:20260308T030000
TZNAME:PDT
TZOFFSETFROM:-0800
TZOFFSETTO:-0700
END:DAYLIGHT
END:VTIMEZONE
END:VCALENDAR
