BEGIN:VCALENDAR
VERSION:2.0
PRODID:-//Plone.org//NONSGML plone.app.event//EN
X-WR-TIMEZONE:US/Pacific
BEGIN:VEVENT
SUMMARY:Book Sale
DTSTART;TZID=US/Pacific:20240507T110000
DTEND;TZID=US/Pacific:20240507T140000
DTSTAMP:20260422T195358Z
UID:f6fff7039c274a26a4e42d7f8aa7ff2a@saas_stack_varnish:6080
CREATED:20240506T232619Z
DESCRIPTION:The Friends of the Scappoose Public Library will be holding a 
 book sale in the library basement on Tuesday\, May 7th\, from 11 AM until 
 2 PM.
LAST-MODIFIED:20240506T232629Z
LOCATION:Library Basement
URL:https://www.scappooselibrary.org/news-events/book-sale-3
END:VEVENT
BEGIN:VTIMEZONE
TZID:US/Pacific
X-LIC-LOCATION:US/Pacific
BEGIN:DAYLIGHT
DTSTART:20240310T030000
TZNAME:PDT
TZOFFSETFROM:-0800
TZOFFSETTO:-0700
END:DAYLIGHT
END:VTIMEZONE
END:VCALENDAR
