BEGIN:VCALENDAR
VERSION:2.0
PRODID:-//Plone.org//NONSGML plone.app.event//EN
X-WR-TIMEZONE:US/Pacific
BEGIN:VEVENT
SUMMARY:Board Game Night
DTSTART;TZID=US/Pacific:20220113T180000
DTEND;TZID=US/Pacific:20220113T200000
DTSTAMP:20260422T125555Z
UID:2cf5cffaa6d14f19acc64c11f5289dd9@saas_stack_varnish:6080
RRULE:FREQ=MONTHLY;UNTIL=20230327T000000;BYDAY=+4TH
RDATE;TZID=US/Pacific:20220113T000000,20220210T000000,20220310T000000,2022
 0414T000000,20220512T000000,20220609T000000
EXDATE;TZID=US/Pacific:20221124T000000,20221222T000000
CONTACT:(503) 543-7123
CREATED:20211208T015442Z
DESCRIPTION:The Scappoose Public Library is hosting free board game nights
  for adults on the second\, third\, and fourth Thursday of every month\, f
 rom 6 to 8 PM.
LAST-MODIFIED:20230323T235943Z
URL:https://www.scappooselibrary.org/news-events/board-game-night
END:VEVENT
BEGIN:VTIMEZONE
TZID:US/Pacific
X-LIC-LOCATION:US/Pacific
BEGIN:STANDARD
DTSTART:20211107T010000
TZNAME:PST
TZOFFSETFROM:-0700
TZOFFSETTO:-0800
END:STANDARD
END:VTIMEZONE
END:VCALENDAR
