BEGIN:VCALENDAR
VERSION:2.0
PRODID:-//Plone.org//NONSGML plone.app.event//EN
X-WR-TIMEZONE:US/Pacific
BEGIN:VEVENT
SUMMARY:Art Experiences: Open Art Studio
DTSTART;TZID=US/Pacific:20230803T130000
DTEND;TZID=US/Pacific:20230803T140000
DTSTAMP:20260420T104210Z
UID:6ba7712c10ed4e23a803f3a6b488d9f5@saas_stack_varnish:6080
RRULE:FREQ=WEEKLY;COUNT=2
CREATED:20230609T220618Z
DESCRIPTION:Thursday\, August 3rd and 10th\, 1:00–2:00 PM.
LAST-MODIFIED:20230609T220628Z
URL:https://www.scappooselibrary.org/news-events/art-experiences-open-art-
 studio
END:VEVENT
BEGIN:VTIMEZONE
TZID:US/Pacific
X-LIC-LOCATION:US/Pacific
BEGIN:DAYLIGHT
DTSTART:20230312T030000
TZNAME:PDT
TZOFFSETFROM:-0800
TZOFFSETTO:-0700
END:DAYLIGHT
END:VTIMEZONE
END:VCALENDAR
