BEGIN:VCALENDAR
VERSION:2.0
PRODID:-//Plone.org//NONSGML plone.app.event//EN
X-WR-TIMEZONE:US/Pacific
BEGIN:VEVENT
SUMMARY:Seed to Supper Class
DTSTART;TZID=US/Pacific:20260420T170000
DTEND;TZID=US/Pacific:20260420T190000
DTSTAMP:20260420T070457Z
UID:4e9f5c20d72348c4a710368ebed5b51d@saas_stack_varnish:6080
RRULE:FREQ=WEEKLY;COUNT=7;BYDAY=MO
EXDATE;TZID=US/Pacific:20260406T000000
CONTACT:Janhvi Pandey\, (503) 397-3462\, janhvi.pandey@oregonstate.edu
CREATED:20260203T213537Z
DESCRIPTION:Seed to Supper is a free six-week beginning gardening course t
 hat helps adults grow their own food on a limited budget. 5–7 PM Mondays
 \, March 16\, 2026 through April 27\, 2026. Registration required.
LAST-MODIFIED:20260209T174854Z
LOCATION:Library Meeting Room
URL:https://www.scappooselibrary.org/news-events/seed-to-supper-class
END:VEVENT
BEGIN:VEVENT
SUMMARY:True Crime Book Club: The Wager
DTSTART;TZID=US/Pacific:20260420T180000
DTEND;TZID=US/Pacific:20260420T190000
DTSTAMP:20260420T070457Z
UID:36c1788663dd40a2b4596491f7f0b3ae@saas_stack_varnish:6080
CONTACT:(503) 543-7123
CREATED:20260317T194750Z
DESCRIPTION:We are reading "The Wager" by David Grann! Join us on Monday\,
  April 20\, 2026 at 6 PM to talk about it!
LAST-MODIFIED:20260317T195012Z
LOCATION:First Floor of the Library
URL:https://www.scappooselibrary.org/news-events/true-crime-book-club-the-
 wager
END:VEVENT
BEGIN:VTIMEZONE
TZID:US/Pacific
X-LIC-LOCATION:US/Pacific
BEGIN:DAYLIGHT
DTSTART:20260308T030000
TZNAME:PDT
TZOFFSETFROM:-0800
TZOFFSETTO:-0700
END:DAYLIGHT
END:VTIMEZONE
END:VCALENDAR
