BEGIN:VCALENDAR
VERSION:2.0
PRODID:-//Plone.org//NONSGML plone.app.event//EN
X-WR-TIMEZONE:US/Pacific
BEGIN:VEVENT
SUMMARY:Music & Movement
DTSTART;TZID=US/Pacific:20260421T103000
DTEND;TZID=US/Pacific:20260421T113000
DTSTAMP:20260421T114720Z
UID:04599570f23b47aeb7aad9c8f9bbb36b@saas_stack_varnish:6080
RRULE:FREQ=WEEKLY;COUNT=38;BYDAY=TU
EXDATE;TZID=US/Pacific:20251111T000000,20260414T000000
CONTACT:(503) 543-7123
CREATED:20250826T211428Z
DESCRIPTION:30 minutes of group movement songs followed by 30 minutes of u
 nstructured playtime for children ages 0–5 and their caregivers. Tuesday
 s\, 10:30–11:30 AM. Returns September 9\, 2025.
LAST-MODIFIED:20260413T211312Z
LOCATION:Library Meeting Room
URL:https://www.scappooselibrary.org/news-events/music-movement-1
END:VEVENT
BEGIN:VEVENT
SUMMARY:Wee Wigglers Storytime presented by the Northwest Regional Educati
 on Service District
DTSTART;TZID=US/Pacific:20260421T130000
DTEND;TZID=US/Pacific:20260421T140000
DTSTAMP:20260421T114720Z
UID:5dd45c8384b14546ae4c854d60d8b480@saas_stack_varnish:6080
CREATED:20260312T200253Z
DESCRIPTION:Join Miss Kristen and Miss Katie for an inclusive\, high-energ
 y\, multi-sensory storytime to read stories\, sing songs\, and get the wig
 gles out! For families with children ages 0–5. Tuesday\, April 21st at 1
 :00 PM.
LAST-MODIFIED:20260312T200315Z
LOCATION:Library Meeting Room
URL:https://www.scappooselibrary.org/news-events/wee-wigglers-storytime-pr
 esented-by-the-northwest-regional-education-service-district
END:VEVENT
BEGIN:VEVENT
SUMMARY:Tween Time: Games and Mini Pizzas!
DTSTART;TZID=US/Pacific:20260421T160000
DTEND;TZID=US/Pacific:20260421T170000
DTSTAMP:20260421T114720Z
UID:0a94c5b6d1a1490995d2cbb0a2b906e7@saas_stack_varnish:6080
CONTACT:(503) 543-7123
CREATED:20260326T175748Z
DESCRIPTION:Tweens in grades 4–6 are invited to make English muffin mini
  pizzas and play the game "Taco Cat Goat Cheese Pizza" on Tuesday\, April 
 21\, 2026 from 4 to 5 PM.
LAST-MODIFIED:20260326T180016Z
LOCATION:Library Meeting Room
URL:https://www.scappooselibrary.org/news-events/tween-time-games-and-mini
 -pizzas
END:VEVENT
BEGIN:VEVENT
SUMMARY:Fiber Friends
DTSTART;TZID=US/Pacific:20260421T180000
DTEND;TZID=US/Pacific:20260421T200000
DTSTAMP:20260421T114721Z
UID:164e3873991043deb96b2f42923050bd@saas_stack_varnish:6080
RRULE:FREQ=WEEKLY;COUNT=52;BYDAY=TU
EXDATE;TZID=US/Pacific:20251111T000000
CONTACT:(503) 543-7123
CREATED:20250826T221135Z
DESCRIPTION:Fiber Friends is a crafting group open to all! It meets every 
 Tuesday at the Library\, from 6 to 8 PM. Bring your current project to wor
 k on while you chat with other crafters!
LAST-MODIFIED:20251020T232237Z
LOCATION:Second Floor of the Scappoose Public Library
URL:https://www.scappooselibrary.org/news-events/fiber-friends-6
END:VEVENT
BEGIN:VTIMEZONE
TZID:US/Pacific
X-LIC-LOCATION:US/Pacific
BEGIN:DAYLIGHT
DTSTART:20260308T030000
TZNAME:PDT
TZOFFSETFROM:-0800
TZOFFSETTO:-0700
END:DAYLIGHT
END:VTIMEZONE
END:VCALENDAR
